BEGIN:VCALENDAR
VERSION:2.0
PRODID:-//New York Folklore - ECPv6.15.20//NONSGML v1.0//EN
CALSCALE:GREGORIAN
METHOD:PUBLISH
X-ORIGINAL-URL:https://nyfolklore.org
X-WR-CALDESC:Events for New York Folklore
REFRESH-INTERVAL;VALUE=DURATION:PT1H
X-Robots-Tag:noindex
X-PUBLISHED-TTL:PT1H
BEGIN:VTIMEZONE
TZID:America/New_York
BEGIN:DAYLIGHT
TZOFFSETFROM:-0500
TZOFFSETTO:-0400
TZNAME:EDT
DTSTART:20220313T070000
END:DAYLIGHT
BEGIN:STANDARD
TZOFFSETFROM:-0400
TZOFFSETTO:-0500
TZNAME:EST
DTSTART:20221106T060000
END:STANDARD
BEGIN:DAYLIGHT
TZOFFSETFROM:-0500
TZOFFSETTO:-0400
TZNAME:EDT
DTSTART:20230312T070000
END:DAYLIGHT
BEGIN:STANDARD
TZOFFSETFROM:-0400
TZOFFSETTO:-0500
TZNAME:EST
DTSTART:20231105T060000
END:STANDARD
BEGIN:DAYLIGHT
TZOFFSETFROM:-0500
TZOFFSETTO:-0400
TZNAME:EDT
DTSTART:20240310T070000
END:DAYLIGHT
BEGIN:STANDARD
TZOFFSETFROM:-0400
TZOFFSETTO:-0500
TZNAME:EST
DTSTART:20241103T060000
END:STANDARD
END:VTIMEZONE
BEGIN:VEVENT
DTSTART;TZID=America/New_York:20230414T160000
DTEND;TZID=America/New_York:20230414T160000
DTSTAMP:20260420T044110
CREATED:20230325T192018Z
LAST-MODIFIED:20230403T150351Z
UID:10000038-1681488000-1681488000@nyfolklore.org
SUMMARY:Estamos Aqui
DESCRIPTION:Estamos Aqui \nEstamos Aquí (We Are Here) is a curated black-and-white photography exhibit featuring the work of Saratoga’s Latinx immigrant community. LifeWorks Community Action\, formerly Saratoga County EOC\, holds an annual photography workshop that teaches the basic concepts and techniques of photography and storytelling. The project brings together people from across the community and around the globe.  \nEstamos Aqui (We Are Here) empowers the voices of the Latinx community by claiming the narrative and centering the voices of the Latinx immigrant community in the Saratoga County region of upstate NY. Visit https://www.estamosaquisaratoga.com to learn more about the project and to purchase prints.   \nThe exhibit can be viewed during regular New York Folklore hours. \nFeatured photo is by AURA DE JESÚS AYALA FLORIAN
URL:https://nyfolklore.org/event/estamos-aqui/
LOCATION:Schenectady Greenmarket\, 105 Jay St\, Schenectady\, NY\, 12305\, United States
CATEGORIES:Receptions
ATTACH;FMTTYPE=image/jpeg:https://nyfolklore.org/wp-content/uploads/2023/03/AURA2.jpg
END:VEVENT
END:VCALENDAR